BEGIN:VCALENDAR
VERSION:2.0
PRODID:-//visitlcf.org//NONSGML kigkonsult.se iCalcreator 2.30.10//
CALSCALE:GREGORIAN
METHOD:PUBLISH
UID:dd93bb6b-efe4-42cb-ae6b-2b3c16272196
X-WR-CALDESC:A come as you are worship service\, designed to encounter God 
 in a personal way.  You will experience modern worship\, a relevant sermon
  and great people.  Nursery and children's church is available.
X-WR-RELCALID:7852b39fb8d745fb70d3d5f079f0241c
X-WR-TIMEZONE:America/Chicago
BEGIN:VTIMEZONE
TZID:America/Chicago
BEGIN:STANDARD
TZNAME:CST
DTSTART:20251102T020000
TZOFFSETFROM:-0500
TZOFFSETTO:-0600
RDATE:20261101T020000
RDATE:20271107T020000
END:STANDARD
BEGIN:DAYLIGHT
TZNAME:CDT
DTSTART:20260308T020000
TZOFFSETFROM:-0600
TZOFFSETTO:-0500
RDATE:20270314T020000
END:DAYLIGHT
END:VTIMEZONE
BEGIN:VEVENT
UID:083c75ac-3c7a-48cb-8128-949d637aab09
DTSTAMP:20260422T075746Z
DESCRIPTION:A come as you are worship service\, designed to encounter God i
 n a personal way.  You will experience modern worship\, a relevant sermon 
 and great people.  Nursery and children's church is available.
DTSTART;TZID=America/Chicago:20260628T104500
DTEND;TZID=America/Chicago:20260628T120000
LOCATION:
SUMMARY:Worship Service
END:VEVENT
END:VCALENDAR
