BEGIN:VCALENDAR
VERSION:2.0
PRODID:-//visitlcf.org//NONSGML kigkonsult.se iCalcreator 2.30.10//
CALSCALE:GREGORIAN
METHOD:PUBLISH
UID:0c1c7e55-7f74-4820-b8e7-5d18796bed15
X-WR-CALDESC:Grades 6 - 12\n
X-WR-RELCALID:69be135c78aabfda65dbe06ae0925524
X-WR-TIMEZONE:America/Chicago
BEGIN:VTIMEZONE
TZID:America/Chicago
BEGIN:STANDARD
TZNAME:CST
DTSTART:20251102T020000
TZOFFSETFROM:-0500
TZOFFSETTO:-0600
RDATE:20261101T020000
RDATE:20271107T020000
END:STANDARD
BEGIN:DAYLIGHT
TZNAME:CDT
DTSTART:20260308T020000
TZOFFSETFROM:-0600
TZOFFSETTO:-0500
RDATE:20270314T020000
END:DAYLIGHT
END:VTIMEZONE
BEGIN:VEVENT
UID:7f15cc0e-f5e8-45d9-98f2-8b82e16add03
DTSTAMP:20260422T080434Z
DESCRIPTION:Grades 6 - 12\n
DTSTART;TZID=America/Chicago:20260624T183000
DTEND;TZID=America/Chicago:20260624T200000
LOCATION:
SUMMARY:Z-360 Youth Group
END:VEVENT
END:VCALENDAR
