BEGIN:VCALENDAR
VERSION:2.0
PRODID:-//visitlcf.org//NONSGML kigkonsult.se iCalcreator 2.30.10//
CALSCALE:GREGORIAN
METHOD:PUBLISH
UID:88230cb8-29d2-4b26-a535-6771692be57b
X-WR-CALDESC:A come as you are worship service\, designed to encounter God 
 in a personal way.  You will experience modern worship\, a relevant sermon
  and great people.  Nursery and children's church is available.
X-WR-RELCALID:a994eb8bace23e72f5fc8a92ce362083
X-WR-TIMEZONE:America/Chicago
BEGIN:VTIMEZONE
TZID:America/Chicago
BEGIN:STANDARD
TZNAME:CST
DTSTART:20251102T020000
TZOFFSETFROM:-0500
TZOFFSETTO:-0600
RDATE:20261101T020000
RDATE:20271107T020000
END:STANDARD
BEGIN:DAYLIGHT
TZNAME:CDT
DTSTART:20260308T020000
TZOFFSETFROM:-0600
TZOFFSETTO:-0500
RDATE:20270314T020000
END:DAYLIGHT
END:VTIMEZONE
BEGIN:VEVENT
UID:3019717b-a5f9-403d-89a9-26a7316aaf47
DTSTAMP:20260422T075715Z
DESCRIPTION:A come as you are worship service\, designed to encounter God i
 n a personal way.  You will experience modern worship\, a relevant sermon 
 and great people.  Nursery and children's church is available.
DTSTART;TZID=America/Chicago:20260621T104500
DTEND;TZID=America/Chicago:20260621T120000
LOCATION:
SUMMARY:Worship Service
END:VEVENT
END:VCALENDAR
