BEGIN:VCALENDAR
VERSION:2.0
PRODID:-//visitlcf.org//NONSGML kigkonsult.se iCalcreator 2.30.10//
CALSCALE:GREGORIAN
METHOD:PUBLISH
UID:867b3681-678f-47cd-b8af-5602a991e614
X-WR-CALDESC:
X-WR-RELCALID:9f9277e6cb5da6a4f1490d9304655312
X-WR-TIMEZONE:America/Chicago
BEGIN:VTIMEZONE
TZID:America/Chicago
BEGIN:STANDARD
TZNAME:CST
DTSTART:20251102T020000
TZOFFSETFROM:-0500
TZOFFSETTO:-0600
RDATE:20261101T020000
RDATE:20271107T020000
END:STANDARD
BEGIN:DAYLIGHT
TZNAME:CDT
DTSTART:20260308T020000
TZOFFSETFROM:-0600
TZOFFSETTO:-0500
RDATE:20270314T020000
END:DAYLIGHT
END:VTIMEZONE
BEGIN:VEVENT
UID:27ba1969-fd54-4999-b078-f9d30ea3df93
DTSTAMP:20260422T075909Z
DESCRIPTION:
DTSTART;TZID=America/Chicago:20260621T093000
DTEND;TZID=America/Chicago:20260621T104500
LOCATION:
SUMMARY:Father's Day Breakfast
END:VEVENT
END:VCALENDAR
