BEGIN:VCALENDAR
VERSION:2.0
PRODID:-//visitlcf.org//NONSGML kigkonsult.se iCalcreator 2.30.10//
CALSCALE:GREGORIAN
METHOD:PUBLISH
UID:e097c244-8895-48e4-a117-871e29162aff
X-WR-CALDESC:An opportunity for the men to get together and hang out while 
 enjoying a hot breakfast.
X-WR-RELCALID:f5da30eafde5dfb68068232394235471
X-WR-TIMEZONE:America/Chicago
BEGIN:VTIMEZONE
TZID:America/Chicago
BEGIN:STANDARD
TZNAME:CST
DTSTART:20251102T020000
TZOFFSETFROM:-0500
TZOFFSETTO:-0600
RDATE:20261101T020000
RDATE:20271107T020000
END:STANDARD
BEGIN:DAYLIGHT
TZNAME:CDT
DTSTART:20260308T020000
TZOFFSETFROM:-0600
TZOFFSETTO:-0500
RDATE:20270314T020000
END:DAYLIGHT
END:VTIMEZONE
BEGIN:VEVENT
UID:f658e157-d867-461f-b3d8-6980b741d956
DTSTAMP:20260422T080403Z
DESCRIPTION:An opportunity for the men to get together and hang out while e
 njoying a hot breakfast.
DTSTART;TZID=America/Chicago:20260613T080000
DTEND;TZID=America/Chicago:20260613T093000
LOCATION:
SUMMARY:Valiant Men's Breakfast
END:VEVENT
END:VCALENDAR
