BEGIN:VCALENDAR
VERSION:2.0
PRODID:-//visitlcf.org//NONSGML kigkonsult.se iCalcreator 2.30.10//
CALSCALE:GREGORIAN
METHOD:PUBLISH
UID:fa48ffb6-02f7-46ed-9d7f-3aeadf515bac
X-WR-CALDESC:
X-WR-RELCALID:bfc99200580eef6f1b1017dd80f39221
X-WR-TIMEZONE:America/Chicago
BEGIN:VTIMEZONE
TZID:America/Chicago
BEGIN:STANDARD
TZNAME:CST
DTSTART:20251102T020000
TZOFFSETFROM:-0500
TZOFFSETTO:-0600
RDATE:20261101T020000
RDATE:20271107T020000
END:STANDARD
BEGIN:DAYLIGHT
TZNAME:CDT
DTSTART:20260308T020000
TZOFFSETFROM:-0600
TZOFFSETTO:-0500
RDATE:20270314T020000
END:DAYLIGHT
END:VTIMEZONE
BEGIN:VEVENT
UID:f5ba9a76-48fa-4ee0-822e-3094d99740c7
DTSTAMP:20260422T075746Z
DESCRIPTION:
DTSTART;TZID=America/Chicago:20260607T090000
DTEND;TZID=America/Chicago:20260607T100000
LOCATION:
SUMMARY:Life Groups
END:VEVENT
END:VCALENDAR
