BEGIN:VCALENDAR
VERSION:2.0
PRODID:-//visitlcf.org//NONSGML kigkonsult.se iCalcreator 2.30.10//
CALSCALE:GREGORIAN
METHOD:PUBLISH
UID:cbcbc879-ca16-4f20-aecd-ec5768fae5f6
X-WR-CALDESC:Grades 6 - 12\n
X-WR-RELCALID:d9bd60f18ef47c791a98c29cced0b7a4
X-WR-TIMEZONE:America/Chicago
BEGIN:VTIMEZONE
TZID:America/Chicago
BEGIN:STANDARD
TZNAME:CST
DTSTART:20251102T020000
TZOFFSETFROM:-0500
TZOFFSETTO:-0600
RDATE:20261101T020000
RDATE:20271107T020000
END:STANDARD
BEGIN:DAYLIGHT
TZNAME:CDT
DTSTART:20260308T020000
TZOFFSETFROM:-0600
TZOFFSETTO:-0500
RDATE:20270314T020000
END:DAYLIGHT
END:VTIMEZONE
BEGIN:VEVENT
UID:26863a10-c00a-4709-9993-398960565ccb
DTSTAMP:20260422T080906Z
DESCRIPTION:Grades 6 - 12\n
DTSTART;TZID=America/Chicago:20260603T183000
DTEND;TZID=America/Chicago:20260603T200000
LOCATION:
SUMMARY:Z-360 Youth Group
END:VEVENT
END:VCALENDAR
