BEGIN:VCALENDAR
VERSION:2.0
PRODID:-//visitlcf.org//NONSGML kigkonsult.se iCalcreator 2.30.10//
CALSCALE:GREGORIAN
METHOD:PUBLISH
UID:b2fedf7a-63fa-4f93-b124-c54c5573ba3b
X-WR-CALDESC:
X-WR-RELCALID:8eb858e1cfbead72ad6899d359180850
X-WR-TIMEZONE:America/Chicago
BEGIN:VTIMEZONE
TZID:America/Chicago
BEGIN:STANDARD
TZNAME:CST
DTSTART:20251102T020000
TZOFFSETFROM:-0500
TZOFFSETTO:-0600
RDATE:20261101T020000
RDATE:20271107T020000
END:STANDARD
BEGIN:DAYLIGHT
TZNAME:CDT
DTSTART:20260308T020000
TZOFFSETFROM:-0600
TZOFFSETTO:-0500
RDATE:20270314T020000
END:DAYLIGHT
END:VTIMEZONE
BEGIN:VEVENT
UID:660bf218-5ed7-4913-bcd9-c4172c7dac72
DTSTAMP:20260422T080840Z
DESCRIPTION:
DTSTART;TZID=America/Chicago:20260603T170000
DTEND;TZID=America/Chicago:20260603T183000
LOCATION:
SUMMARY:Z-360 Student Council Dinner
END:VEVENT
END:VCALENDAR
