BEGIN:VCALENDAR
VERSION:2.0
PRODID:-//visitlcf.org//NONSGML kigkonsult.se iCalcreator 2.30.10//
CALSCALE:GREGORIAN
METHOD:PUBLISH
UID:5478a674-36b2-4b08-a171-891a401daf7b
X-WR-CALDESC:Grades 6 - 12\n
X-WR-RELCALID:32f8d57d95fdf4591e9b9bd048d8490c
X-WR-TIMEZONE:America/Chicago
BEGIN:VTIMEZONE
TZID:America/Chicago
BEGIN:STANDARD
TZNAME:CST
DTSTART:20251102T020000
TZOFFSETFROM:-0500
TZOFFSETTO:-0600
RDATE:20261101T020000
RDATE:20271107T020000
END:STANDARD
BEGIN:DAYLIGHT
TZNAME:CDT
DTSTART:20260308T020000
TZOFFSETFROM:-0600
TZOFFSETTO:-0500
RDATE:20270314T020000
END:DAYLIGHT
END:VTIMEZONE
BEGIN:VEVENT
UID:b7840ed2-403b-48d1-a876-44a8af9fb1fe
DTSTAMP:20260422T064447Z
DESCRIPTION:Grades 6 - 12\n
DTSTART;TZID=America/Chicago:20260527T183000
DTEND;TZID=America/Chicago:20260527T200000
LOCATION:
SUMMARY:Z-360 Youth Group
END:VEVENT
END:VCALENDAR
