BEGIN:VCALENDAR
VERSION:2.0
PRODID:-//visitlcf.org//NONSGML kigkonsult.se iCalcreator 2.30.10//
CALSCALE:GREGORIAN
METHOD:PUBLISH
UID:509fa39e-938e-4d91-8faf-56ccb1ee11c6
X-WR-CALDESC:
X-WR-RELCALID:b958ce52a5b3de2625939e6e680ea073
X-WR-TIMEZONE:America/Chicago
BEGIN:VTIMEZONE
TZID:America/Chicago
BEGIN:STANDARD
TZNAME:CST
DTSTART:20251102T020000
TZOFFSETFROM:-0500
TZOFFSETTO:-0600
RDATE:20261101T020000
RDATE:20271107T020000
END:STANDARD
BEGIN:DAYLIGHT
TZNAME:CDT
DTSTART:20260308T020000
TZOFFSETFROM:-0600
TZOFFSETTO:-0500
RDATE:20270314T020000
END:DAYLIGHT
END:VTIMEZONE
BEGIN:VEVENT
UID:d73b7964-0c63-46f6-865e-37d6da78c9ac
DTSTAMP:20260422T064244Z
DESCRIPTION:
DTSTART;TZID=America/Chicago:20260525T100000
DTEND;TZID=America/Chicago:20260525T120000
LOCATION:The Front Room
SUMMARY:Ladies Bible Study
END:VEVENT
END:VCALENDAR
