BEGIN:VCALENDAR
VERSION:2.0
PRODID:-//visitlcf.org//NONSGML kigkonsult.se iCalcreator 2.30.10//
CALSCALE:GREGORIAN
METHOD:PUBLISH
UID:c6724a89-e1db-4c51-8b33-3b2b1ab4159a
X-WR-CALDESC:
X-WR-RELCALID:afa9fa28fbbcbf020ece10d8f0d99ca0
X-WR-TIMEZONE:America/Chicago
BEGIN:VTIMEZONE
TZID:America/Chicago
BEGIN:STANDARD
TZNAME:CST
DTSTART:20251102T020000
TZOFFSETFROM:-0500
TZOFFSETTO:-0600
RDATE:20261101T020000
RDATE:20271107T020000
END:STANDARD
BEGIN:DAYLIGHT
TZNAME:CDT
DTSTART:20260308T020000
TZOFFSETFROM:-0600
TZOFFSETTO:-0500
RDATE:20270314T020000
END:DAYLIGHT
END:VTIMEZONE
BEGIN:VEVENT
UID:6ed0bb7d-fbfc-488d-a569-03ab917febb1
DTSTAMP:20260422T064518Z
DESCRIPTION:
DTSTART;TZID=America/Chicago:20260518T100000
DTEND;TZID=America/Chicago:20260518T120000
LOCATION:The Front Room
SUMMARY:Ladies Bible Study
END:VEVENT
END:VCALENDAR
