BEGIN:VCALENDAR
VERSION:2.0
PRODID:-//visitlcf.org//NONSGML kigkonsult.se iCalcreator 2.30.10//
CALSCALE:GREGORIAN
METHOD:PUBLISH
UID:0f7dea53-47a1-4421-ae53-a5abd9a0fb10
X-WR-CALDESC:Grades 6 - 12\n
X-WR-RELCALID:57c2ca88f5577ed2a7a7451705cc8618
X-WR-TIMEZONE:America/Chicago
BEGIN:VTIMEZONE
TZID:America/Chicago
BEGIN:STANDARD
TZNAME:CST
DTSTART:20251102T020000
TZOFFSETFROM:-0500
TZOFFSETTO:-0600
RDATE:20261101T020000
RDATE:20271107T020000
END:STANDARD
BEGIN:DAYLIGHT
TZNAME:CDT
DTSTART:20260308T020000
TZOFFSETFROM:-0600
TZOFFSETTO:-0500
RDATE:20270314T020000
END:DAYLIGHT
END:VTIMEZONE
BEGIN:VEVENT
UID:aac20c5d-b4b8-4e9e-bd5d-982073c533b2
DTSTAMP:20260422T065448Z
DESCRIPTION:Grades 6 - 12\n
DTSTART;TZID=America/Chicago:20260513T183000
DTEND;TZID=America/Chicago:20260513T200000
LOCATION:
SUMMARY:Z-360 Youth Group
END:VEVENT
END:VCALENDAR
