BEGIN:VCALENDAR
VERSION:2.0
PRODID:-//visitlcf.org//NONSGML kigkonsult.se iCalcreator 2.30.10//
CALSCALE:GREGORIAN
METHOD:PUBLISH
UID:8c354bcf-7f88-47ac-9fe8-74c4ce2e816b
X-WR-CALDESC:A come as you are worship service\, designed to encounter God 
 in a personal way.  You will experience modern worship\, a relevant sermon
  and great people.  Nursery and children's church is available.
X-WR-RELCALID:6f477cf282a8280009153a47c98174ba
X-WR-TIMEZONE:America/Chicago
BEGIN:VTIMEZONE
TZID:America/Chicago
BEGIN:STANDARD
TZNAME:CST
DTSTART:20251102T020000
TZOFFSETFROM:-0500
TZOFFSETTO:-0600
RDATE:20261101T020000
RDATE:20271107T020000
END:STANDARD
BEGIN:DAYLIGHT
TZNAME:CDT
DTSTART:20260308T020000
TZOFFSETFROM:-0600
TZOFFSETTO:-0500
RDATE:20270314T020000
END:DAYLIGHT
END:VTIMEZONE
BEGIN:VEVENT
UID:00ae9e53-67a8-4442-9868-fe8f2a207fb4
DTSTAMP:20260422T064005Z
DESCRIPTION:A come as you are worship service\, designed to encounter God i
 n a personal way.  You will experience modern worship\, a relevant sermon 
 and great people.  Nursery and children's church is available.
DTSTART;TZID=America/Chicago:20260510T104500
DTEND;TZID=America/Chicago:20260510T120000
LOCATION:
SUMMARY:Worship Service
END:VEVENT
END:VCALENDAR
