BEGIN:VCALENDAR
VERSION:2.0
PRODID:-//visitlcf.org//NONSGML kigkonsult.se iCalcreator 2.30.10//
CALSCALE:GREGORIAN
METHOD:PUBLISH
UID:dcd3f8ab-0670-4768-b783-93d91fd35b48
X-WR-CALDESC:
X-WR-RELCALID:02a5bdfb9155263eb6162510cd1ae8d3
X-WR-TIMEZONE:America/Chicago
BEGIN:VTIMEZONE
TZID:America/Chicago
BEGIN:STANDARD
TZNAME:CST
DTSTART:20251102T020000
TZOFFSETFROM:-0500
TZOFFSETTO:-0600
RDATE:20261101T020000
END:STANDARD
BEGIN:DAYLIGHT
TZNAME:CDT
DTSTART:20260308T020000
TZOFFSETFROM:-0600
TZOFFSETTO:-0500
RDATE:20270314T020000
END:DAYLIGHT
END:VTIMEZONE
BEGIN:VEVENT
UID:68c81061-bfb5-474a-bb52-50cec1edcbe3
DTSTAMP:20260422T064922Z
DESCRIPTION:
DTSTART;TZID=America/Chicago:20260506T170000
DTEND;TZID=America/Chicago:20260506T183000
LOCATION:
SUMMARY:Z-360 Student Council Dinner
END:VEVENT
END:VCALENDAR
