BEGIN:VCALENDAR
VERSION:2.0
PRODID:-//visitlcf.org//NONSGML kigkonsult.se iCalcreator 2.30.10//
CALSCALE:GREGORIAN
METHOD:PUBLISH
UID:618d2a20-6427-4514-99f1-930861fe6057
X-WR-CALDESC:A come as you are worship service\, designed to encounter God 
 in a personal way.  You will experience modern worship\, a relevant sermon
  and great people.  Nursery and children's church is available.
X-WR-RELCALID:db8258307e35bad17a3521f14444bb27
X-WR-TIMEZONE:America/Chicago
BEGIN:VTIMEZONE
TZID:America/Chicago
BEGIN:STANDARD
TZNAME:CST
DTSTART:20251102T020000
TZOFFSETFROM:-0500
TZOFFSETTO:-0600
RDATE:20261101T020000
END:STANDARD
BEGIN:DAYLIGHT
TZNAME:CDT
DTSTART:20260308T020000
TZOFFSETFROM:-0600
TZOFFSETTO:-0500
RDATE:20270314T020000
END:DAYLIGHT
END:VTIMEZONE
BEGIN:VEVENT
UID:1c27e4bc-0919-47d9-8851-b4b4ad58193a
DTSTAMP:20260422T063849Z
DESCRIPTION:A come as you are worship service\, designed to encounter God i
 n a personal way.  You will experience modern worship\, a relevant sermon 
 and great people.  Nursery and children's church is available.
DTSTART;TZID=America/Chicago:20260503T104500
DTEND;TZID=America/Chicago:20260503T120000
LOCATION:
SUMMARY:Worship Service
END:VEVENT
END:VCALENDAR
