BEGIN:VCALENDAR
VERSION:2.0
PRODID:-//visitlcf.org//NONSGML kigkonsult.se iCalcreator 2.30.10//
CALSCALE:GREGORIAN
METHOD:PUBLISH
UID:cf2508a9-abc3-469f-8a45-aef343afc810
X-WR-CALDESC:
X-WR-RELCALID:6f54eae30c3b9a18c8e3de61ebb8c6e2
X-WR-TIMEZONE:America/Chicago
BEGIN:VTIMEZONE
TZID:America/Chicago
BEGIN:STANDARD
TZNAME:CST
DTSTART:20251102T020000
TZOFFSETFROM:-0500
TZOFFSETTO:-0600
RDATE:20261101T020000
END:STANDARD
BEGIN:DAYLIGHT
TZNAME:CDT
DTSTART:20260308T020000
TZOFFSETFROM:-0600
TZOFFSETTO:-0500
RDATE:20270314T020000
END:DAYLIGHT
END:VTIMEZONE
BEGIN:VEVENT
UID:caab0e69-15bb-42c0-a8c9-8107b2e1380e
DTSTAMP:20260422T063906Z
DESCRIPTION:
DTSTART;TZID=America/Chicago:20260503T100000
DTEND;TZID=America/Chicago:20260503T104500
LOCATION:
SUMMARY:Coffee Fellowship
END:VEVENT
END:VCALENDAR
