BEGIN:VCALENDAR
VERSION:2.0
PRODID:-//visitlcf.org//NONSGML kigkonsult.se iCalcreator 2.30.10//
CALSCALE:GREGORIAN
METHOD:PUBLISH
UID:d280f440-efde-470e-8fc2-229141b52ab5
X-WR-CALDESC:Grades 6 - 12\n
X-WR-RELCALID:a66b0999f73d44698d738cbf7e886cf5
X-WR-TIMEZONE:America/Chicago
BEGIN:VTIMEZONE
TZID:America/Chicago
BEGIN:STANDARD
TZNAME:CST
DTSTART:20251102T020000
TZOFFSETFROM:-0500
TZOFFSETTO:-0600
RDATE:20261101T020000
END:STANDARD
BEGIN:DAYLIGHT
TZNAME:CDT
DTSTART:20260308T020000
TZOFFSETFROM:-0600
TZOFFSETTO:-0500
RDATE:20270314T020000
END:DAYLIGHT
END:VTIMEZONE
BEGIN:VEVENT
UID:ef6b3681-1aff-4b24-bea7-7bf299cab567
DTSTAMP:20260422T052537Z
DESCRIPTION:Grades 6 - 12\n
DTSTART;TZID=America/Chicago:20260429T183000
DTEND;TZID=America/Chicago:20260429T200000
LOCATION:
SUMMARY:Z-360 Youth Group
END:VEVENT
END:VCALENDAR
