BEGIN:VCALENDAR
VERSION:2.0
PRODID:-//visitlcf.org//NONSGML kigkonsult.se iCalcreator 2.30.10//
CALSCALE:GREGORIAN
METHOD:PUBLISH
UID:dce86f96-5079-426d-9cf8-6521aadd799d
X-WR-CALDESC:
X-WR-RELCALID:8ad69ba0f5d7d1cc4aa258afe88dfda2
X-WR-TIMEZONE:America/Chicago
BEGIN:VTIMEZONE
TZID:America/Chicago
BEGIN:STANDARD
TZNAME:CST
DTSTART:20251102T020000
TZOFFSETFROM:-0500
TZOFFSETTO:-0600
RDATE:20261101T020000
END:STANDARD
BEGIN:DAYLIGHT
TZNAME:CDT
DTSTART:20260308T020000
TZOFFSETFROM:-0600
TZOFFSETTO:-0500
RDATE:20270314T020000
END:DAYLIGHT
END:VTIMEZONE
BEGIN:VEVENT
UID:65919709-a3e5-4d05-9332-fce5abe9b56d
DTSTAMP:20260421T081110Z
DESCRIPTION:
DTSTART;TZID=America/Chicago:20260425T080000
DTEND;TZID=America/Chicago:20260425T100000
LOCATION:
SUMMARY:Daughter's of the King Breakfast
END:VEVENT
END:VCALENDAR
