BEGIN:VCALENDAR
VERSION:2.0
PRODID:-//visitlcf.org//NONSGML kigkonsult.se iCalcreator 2.30.10//
CALSCALE:GREGORIAN
METHOD:PUBLISH
UID:ecb77356-ab36-462b-ac42-41bcfd55e203
X-WR-CALDESC:A come as you are worship service\, designed to encounter God 
 in a personal way.  You will experience modern worship\, a relevant sermon
  and great people.  Nursery and children's church is available.
X-WR-RELCALID:cb9ca00c0a87ce0b293442709816b31e
X-WR-TIMEZONE:America/Chicago
BEGIN:VTIMEZONE
TZID:America/Chicago
BEGIN:STANDARD
TZNAME:CST
DTSTART:20251102T020000
TZOFFSETFROM:-0500
TZOFFSETTO:-0600
RDATE:20261101T020000
END:STANDARD
BEGIN:DAYLIGHT
TZNAME:CDT
DTSTART:20260308T020000
TZOFFSETFROM:-0600
TZOFFSETTO:-0500
RDATE:20270314T020000
END:DAYLIGHT
END:VTIMEZONE
BEGIN:VEVENT
UID:aa296f96-9f02-4e26-8a78-8371defeb953
DTSTAMP:20260422T060823Z
DESCRIPTION:A come as you are worship service\, designed to encounter God i
 n a personal way.  You will experience modern worship\, a relevant sermon 
 and great people.  Nursery and children's church is available.
DTSTART;TZID=America/Chicago:20260412T104500
DTEND;TZID=America/Chicago:20260412T120000
LOCATION:
SUMMARY:Worship Service
END:VEVENT
END:VCALENDAR
