BEGIN:VCALENDAR
VERSION:2.0
PRODID:-//visitlcf.org//NONSGML kigkonsult.se iCalcreator 2.30.10//
CALSCALE:GREGORIAN
METHOD:PUBLISH
UID:5524fbd6-e992-4d6c-89fe-61305d8113d7
X-WR-CALDESC:
X-WR-RELCALID:a4e4c23c47947a06d3aca60d3f434602
X-WR-TIMEZONE:America/Chicago
BEGIN:VTIMEZONE
TZID:America/Chicago
BEGIN:STANDARD
TZNAME:CST
DTSTART:20251102T020000
TZOFFSETFROM:-0500
TZOFFSETTO:-0600
RDATE:20261101T020000
END:STANDARD
BEGIN:DAYLIGHT
TZNAME:CDT
DTSTART:20260308T020000
TZOFFSETFROM:-0600
TZOFFSETTO:-0500
RDATE:20270314T020000
END:DAYLIGHT
END:VTIMEZONE
BEGIN:VEVENT
UID:aecea20f-e039-4284-a714-4aede642defb
DTSTAMP:20260422T051710Z
DESCRIPTION:
DTSTART;TZID=America/Chicago:20260406T100000
DTEND;TZID=America/Chicago:20260406T120000
LOCATION:The Front Room
SUMMARY:Ladies Bible Study
END:VEVENT
END:VCALENDAR
