BEGIN:VCALENDAR
VERSION:2.0
PRODID:-//visitlcf.org//NONSGML kigkonsult.se iCalcreator 2.30.10//
CALSCALE:GREGORIAN
METHOD:PUBLISH
UID:09193b39-1f6b-4579-9c11-67548c2831f7
X-WR-CALDESC:
X-WR-RELCALID:691e98b8735c9970d35e7e33b606e169
X-WR-TIMEZONE:America/Chicago
BEGIN:VTIMEZONE
TZID:America/Chicago
BEGIN:STANDARD
TZNAME:CST
DTSTART:20251102T020000
TZOFFSETFROM:-0500
TZOFFSETTO:-0600
RDATE:20261101T020000
END:STANDARD
BEGIN:DAYLIGHT
TZNAME:CDT
DTSTART:20260308T020000
TZOFFSETFROM:-0600
TZOFFSETTO:-0500
RDATE:20270314T020000
END:DAYLIGHT
END:VTIMEZONE
BEGIN:VEVENT
UID:1bbc0928-785e-4a92-8c9c-ce8d78ec1fa0
DTSTAMP:20260422T050935Z
DESCRIPTION:
DTSTART;TZID=America/Chicago:20260403T180000
DTEND;TZID=America/Chicago:20260403T193000
LOCATION:
SUMMARY:Good Friday Come & Go Communion & Prayer Service
END:VEVENT
END:VCALENDAR
