BEGIN:VCALENDAR
VERSION:2.0
PRODID:-//visitlcf.org//NONSGML kigkonsult.se iCalcreator 2.30.10//
CALSCALE:GREGORIAN
METHOD:PUBLISH
UID:18877c12-950e-430d-94d1-ace4a1c3126f
X-WR-CALDESC:
X-WR-RELCALID:5027afeec5635478f393824c846ce581
X-WR-TIMEZONE:America/Chicago
BEGIN:VTIMEZONE
TZID:America/Chicago
BEGIN:STANDARD
TZNAME:CST
DTSTART:20251102T020000
TZOFFSETFROM:-0500
TZOFFSETTO:-0600
RDATE:20261101T020000
END:STANDARD
BEGIN:DAYLIGHT
TZNAME:CDT
DTSTART:20260308T020000
TZOFFSETFROM:-0600
TZOFFSETTO:-0500
RDATE:20270314T020000
END:DAYLIGHT
END:VTIMEZONE
BEGIN:VEVENT
UID:18bd9d80-1fd4-4013-8c96-7642b2bfea1f
DTSTAMP:20260422T060703Z
DESCRIPTION:
DTSTART;TZID=America/Chicago:20260401T183000
DTEND;TZID=America/Chicago:20260401T200000
LOCATION:
SUMMARY:Rock Solid Kids
END:VEVENT
END:VCALENDAR
