BEGIN:VCALENDAR
VERSION:2.0
PRODID:-//visitlcf.org//NONSGML kigkonsult.se iCalcreator 2.30.10//
CALSCALE:GREGORIAN
METHOD:PUBLISH
UID:fcbd9ea4-fa64-4083-b729-aa8ce74ae946
X-WR-CALDESC:
X-WR-RELCALID:34678118ca0b39bf98e04d50b7512b57
X-WR-TIMEZONE:America/Chicago
BEGIN:VTIMEZONE
TZID:America/Chicago
BEGIN:STANDARD
TZNAME:CST
DTSTART:20251102T020000
TZOFFSETFROM:-0500
TZOFFSETTO:-0600
RDATE:20261101T020000
END:STANDARD
BEGIN:DAYLIGHT
TZNAME:CDT
DTSTART:20260308T020000
TZOFFSETFROM:-0600
TZOFFSETTO:-0500
RDATE:20270314T020000
END:DAYLIGHT
END:VTIMEZONE
BEGIN:VEVENT
UID:3c7ff277-6f2d-47c4-ac46-c4c252e433be
DTSTAMP:20260422T052544Z
DESCRIPTION:
DTSTART;TZID=America/Chicago:20260401T170000
DTEND;TZID=America/Chicago:20260401T183000
LOCATION:
SUMMARY:Z-360 Student Council Dinner
END:VEVENT
END:VCALENDAR
