BEGIN:VCALENDAR
VERSION:2.0
PRODID:-//visitlcf.org//NONSGML kigkonsult.se iCalcreator 2.30.10//
CALSCALE:GREGORIAN
METHOD:PUBLISH
UID:ca6f5f1d-9be7-45a8-8fd6-0f941cb6ffce
X-WR-CALDESC:
X-WR-RELCALID:dde2a6b38aff18d2b26f5e020d477626
X-WR-TIMEZONE:America/Chicago
BEGIN:VTIMEZONE
TZID:America/Chicago
BEGIN:STANDARD
TZNAME:CST
DTSTART:20251102T020000
TZOFFSETFROM:-0500
TZOFFSETTO:-0600
RDATE:20261101T020000
END:STANDARD
BEGIN:DAYLIGHT
TZNAME:CDT
DTSTART:20260308T020000
TZOFFSETFROM:-0600
TZOFFSETTO:-0500
RDATE:20270314T020000
END:DAYLIGHT
END:VTIMEZONE
BEGIN:VEVENT
UID:dd8faf6b-e6b3-4e8f-9495-adcf292dce5d
DTSTAMP:20260422T063730Z
DESCRIPTION:
DTSTART;TZID=America/Chicago:20260329T100000
DTEND;TZID=America/Chicago:20260329T104500
LOCATION:
SUMMARY:Coffee Fellowship
END:VEVENT
END:VCALENDAR
