BEGIN:VCALENDAR
VERSION:2.0
PRODID:-//visitlcf.org//NONSGML kigkonsult.se iCalcreator 2.30.10//
CALSCALE:GREGORIAN
METHOD:PUBLISH
UID:8a71bba8-c33a-4430-aab7-9e0d9b4eaa1c
X-WR-CALDESC:
X-WR-RELCALID:4bc71db47f3139e3b96604675fea0276
X-WR-TIMEZONE:America/Chicago
BEGIN:VTIMEZONE
TZID:America/Chicago
BEGIN:STANDARD
TZNAME:CST
DTSTART:20251102T020000
TZOFFSETFROM:-0500
TZOFFSETTO:-0600
RDATE:20261101T020000
END:STANDARD
BEGIN:DAYLIGHT
TZNAME:CDT
DTSTART:20260308T020000
TZOFFSETFROM:-0600
TZOFFSETTO:-0500
RDATE:20270314T020000
END:DAYLIGHT
END:VTIMEZONE
BEGIN:VEVENT
UID:1261d0a6-cd3b-4bd8-b922-0f626e891e02
DTSTAMP:20260422T064422Z
DESCRIPTION:
DTSTART;TZID=America/Chicago:20260323T100000
DTEND;TZID=America/Chicago:20260323T120000
LOCATION:The Front Room
SUMMARY:Ladies Bible Study
END:VEVENT
END:VCALENDAR
