BEGIN:VCALENDAR
VERSION:2.0
PRODID:-//visitlcf.org//NONSGML kigkonsult.se iCalcreator 2.30.10//
CALSCALE:GREGORIAN
METHOD:PUBLISH
UID:52f190c9-a99d-4f42-b309-f417d4fa64fe
X-WR-CALDESC:
X-WR-RELCALID:8d3ad66708b1f1d40bf567a03c9799f7
X-WR-TIMEZONE:America/Chicago
BEGIN:VTIMEZONE
TZID:America/Chicago
BEGIN:STANDARD
TZNAME:CST
DTSTART:20251102T020000
TZOFFSETFROM:-0500
TZOFFSETTO:-0600
RDATE:20261101T020000
END:STANDARD
BEGIN:DAYLIGHT
TZNAME:CDT
DTSTART:20260308T020000
TZOFFSETFROM:-0600
TZOFFSETTO:-0500
RDATE:20270314T020000
END:DAYLIGHT
END:VTIMEZONE
BEGIN:VEVENT
UID:662aa9ab-00b6-4411-8020-c51cb6e0f464
DTSTAMP:20260422T062630Z
DESCRIPTION:
DTSTART;TZID=America/Chicago:20260322T090000
DTEND;TZID=America/Chicago:20260322T120000
LOCATION:
SUMMARY:BtW Conference Sunday
END:VEVENT
END:VCALENDAR
