BEGIN:VCALENDAR
VERSION:2.0
PRODID:-//visitlcf.org//NONSGML kigkonsult.se iCalcreator 2.30.10//
CALSCALE:GREGORIAN
METHOD:PUBLISH
UID:cec1a8d2-4606-4e96-9867-aec9a0970156
X-WR-CALDESC:
X-WR-RELCALID:fe7d4fefa0c0e2f9249fdf66898e5374
X-WR-TIMEZONE:America/Chicago
BEGIN:VTIMEZONE
TZID:America/Chicago
BEGIN:STANDARD
TZNAME:CST
DTSTART:20251102T020000
TZOFFSETFROM:-0500
TZOFFSETTO:-0600
RDATE:20261101T020000
END:STANDARD
BEGIN:DAYLIGHT
TZNAME:CDT
DTSTART:20260308T020000
TZOFFSETFROM:-0600
TZOFFSETTO:-0500
RDATE:20270314T020000
END:DAYLIGHT
END:VTIMEZONE
BEGIN:VEVENT
UID:03f2a547-6e6e-4e62-a415-85070439b698
DTSTAMP:20260422T062509Z
DESCRIPTION:
DTSTART;TZID=America/Chicago:20260317T160000
DTEND;TZID=America/Chicago:20260317T180000
LOCATION:
SUMMARY:LCF Board Mtg.
END:VEVENT
END:VCALENDAR
