BEGIN:VCALENDAR
VERSION:2.0
PRODID:-//visitlcf.org//NONSGML kigkonsult.se iCalcreator 2.30.10//
CALSCALE:GREGORIAN
METHOD:PUBLISH
UID:740e8ff2-c930-4c1b-886c-79bd74b2bc68
X-WR-CALDESC:
X-WR-RELCALID:bfccad7e920777bcb8c24d4d4ea2ed07
X-WR-TIMEZONE:America/Chicago
BEGIN:VTIMEZONE
TZID:America/Chicago
BEGIN:STANDARD
TZNAME:CST
DTSTART:20251102T020000
TZOFFSETFROM:-0500
TZOFFSETTO:-0600
RDATE:20261101T020000
END:STANDARD
BEGIN:DAYLIGHT
TZNAME:CDT
DTSTART:20260308T020000
TZOFFSETFROM:-0600
TZOFFSETTO:-0500
RDATE:20270314T020000
END:DAYLIGHT
END:VTIMEZONE
BEGIN:VEVENT
UID:bd826df0-9331-480f-8973-d2490c598c9b
DTSTAMP:20260422T063126Z
DESCRIPTION:
DTSTART;TZID=America/Chicago:20260315T100000
DTEND;TZID=America/Chicago:20260315T104500
LOCATION:
SUMMARY:Coffee Fellowship
END:VEVENT
END:VCALENDAR
