BEGIN:VCALENDAR
VERSION:2.0
PRODID:-//visitlcf.org//NONSGML kigkonsult.se iCalcreator 2.30.10//
CALSCALE:GREGORIAN
METHOD:PUBLISH
UID:f9f807b7-f8da-4998-a5ea-25da4b6532a2
X-WR-CALDESC:
X-WR-RELCALID:cbfd51ffe6356598ef2b2c5ad00c2305
X-WR-TIMEZONE:America/Chicago
BEGIN:VTIMEZONE
TZID:America/Chicago
BEGIN:STANDARD
TZNAME:CST
DTSTART:20251102T020000
TZOFFSETFROM:-0500
TZOFFSETTO:-0600
RDATE:20261101T020000
END:STANDARD
BEGIN:DAYLIGHT
TZNAME:CDT
DTSTART:20250309T020000
TZOFFSETFROM:-0600
TZOFFSETTO:-0500
RDATE:20260308T020000
RDATE:20270314T020000
END:DAYLIGHT
END:VTIMEZONE
BEGIN:VEVENT
UID:fecd8571-2503-4708-9be8-4b0eecd4cadd
DTSTAMP:20260422T080639Z
DESCRIPTION:
DTSTART;TZID=America/Chicago:20260226T183000
DTEND;TZID=America/Chicago:20260226T200000
LOCATION:
SUMMARY:Trail Life Meeting
END:VEVENT
END:VCALENDAR
