BEGIN:VCALENDAR
VERSION:2.0
PRODID:-//visitlcf.org//NONSGML kigkonsult.se iCalcreator 2.30.10//
CALSCALE:GREGORIAN
METHOD:PUBLISH
UID:2579c660-5c52-4d62-af5a-c494a25bd4e9
X-WR-CALDESC:
X-WR-RELCALID:8486d438f91d5403702c5d4e43c50d36
X-WR-TIMEZONE:America/Chicago
BEGIN:VTIMEZONE
TZID:America/Chicago
BEGIN:STANDARD
TZNAME:CST
DTSTART:20251102T020000
TZOFFSETFROM:-0500
TZOFFSETTO:-0600
RDATE:20261101T020000
END:STANDARD
BEGIN:DAYLIGHT
TZNAME:CDT
DTSTART:20250309T020000
TZOFFSETFROM:-0600
TZOFFSETTO:-0500
RDATE:20260308T020000
RDATE:20270314T020000
END:DAYLIGHT
END:VTIMEZONE
BEGIN:VEVENT
UID:5e9c0cfd-cc3e-42e4-9f61-d0d8f65ad07d
DTSTAMP:20260422T075548Z
DESCRIPTION:
DTSTART;TZID=America/Chicago:20260217T160000
DTEND;TZID=America/Chicago:20260217T180000
LOCATION:
SUMMARY:LCF Board Meeting
END:VEVENT
END:VCALENDAR
