BEGIN:VCALENDAR
VERSION:2.0
PRODID:-//visitlcf.org//NONSGML kigkonsult.se iCalcreator 2.30.10//
CALSCALE:GREGORIAN
METHOD:PUBLISH
UID:529e519e-6872-4612-be93-557864f31210
X-WR-CALDESC:
X-WR-RELCALID:681a3b741dd27b349fd1abf1779136ff
X-WR-TIMEZONE:America/Chicago
BEGIN:VTIMEZONE
TZID:America/Chicago
BEGIN:STANDARD
TZNAME:CST
DTSTART:20251102T020000
TZOFFSETFROM:-0500
TZOFFSETTO:-0600
RDATE:20261101T020000
END:STANDARD
BEGIN:DAYLIGHT
TZNAME:CDT
DTSTART:20250309T020000
TZOFFSETFROM:-0600
TZOFFSETTO:-0500
RDATE:20260308T020000
RDATE:20270314T020000
END:DAYLIGHT
END:VTIMEZONE
BEGIN:VEVENT
UID:aff0ff10-5d10-469a-ac76-8cfbc609ba7c
DTSTAMP:20260422T080341Z
DESCRIPTION:
DTSTART;TZID=America/Chicago:20260216T100000
DTEND;TZID=America/Chicago:20260216T120000
LOCATION:The Front Room
SUMMARY:Ladies Bible Study
END:VEVENT
END:VCALENDAR
