BEGIN:VCALENDAR
VERSION:2.0
PRODID:-//visitlcf.org//NONSGML kigkonsult.se iCalcreator 2.30.10//
CALSCALE:GREGORIAN
METHOD:PUBLISH
UID:38f87c13-e397-4ccb-ab52-1b1c88d3ee6c
X-WR-CALDESC:An opportunity for the men to get together and hang out while 
 enjoying a hot breakfast.
X-WR-RELCALID:4fa9c9b2b0bf75eabd046f6d0306b4fd
X-WR-TIMEZONE:America/Chicago
BEGIN:VTIMEZONE
TZID:America/Chicago
BEGIN:STANDARD
TZNAME:CST
DTSTART:20251102T020000
TZOFFSETFROM:-0500
TZOFFSETTO:-0600
RDATE:20261101T020000
END:STANDARD
BEGIN:DAYLIGHT
TZNAME:CDT
DTSTART:20250309T020000
TZOFFSETFROM:-0600
TZOFFSETTO:-0500
RDATE:20260308T020000
RDATE:20270314T020000
END:DAYLIGHT
END:VTIMEZONE
BEGIN:VEVENT
UID:28b24d50-dbbb-44a0-b2fc-54be561f0a27
DTSTAMP:20260422T080402Z
DESCRIPTION:An opportunity for the men to get together and hang out while e
 njoying a hot breakfast.
DTSTART;TZID=America/Chicago:20260214T080000
DTEND;TZID=America/Chicago:20260214T093000
LOCATION:
SUMMARY:Valiant Men's Breakfast
END:VEVENT
END:VCALENDAR
