BEGIN:VCALENDAR
VERSION:2.0
PRODID:-//visitlcf.org//NONSGML kigkonsult.se iCalcreator 2.30.10//
CALSCALE:GREGORIAN
METHOD:PUBLISH
UID:02755372-0489-41cb-be8f-c63ad7b06629
X-WR-CALDESC:
X-WR-RELCALID:5a87e65b3fce5c409dec49313d444fa3
X-WR-TIMEZONE:America/Chicago
BEGIN:VTIMEZONE
TZID:America/Chicago
BEGIN:STANDARD
TZNAME:CST
DTSTART:20251102T020000
TZOFFSETFROM:-0500
TZOFFSETTO:-0600
RDATE:20261101T020000
END:STANDARD
BEGIN:DAYLIGHT
TZNAME:CDT
DTSTART:20250309T020000
TZOFFSETFROM:-0600
TZOFFSETTO:-0500
RDATE:20260308T020000
RDATE:20270314T020000
END:DAYLIGHT
END:VTIMEZONE
BEGIN:VEVENT
UID:db5eebc9-0fdf-4888-91eb-292b7d9cf5d8
DTSTAMP:20260422T080526Z
DESCRIPTION:
DTSTART;TZID=America/Chicago:20260207T093000
DTEND;TZID=America/Chicago:20260207T110000
LOCATION:
SUMMARY:2nd LIfe Saturday
END:VEVENT
END:VCALENDAR
