BEGIN:VCALENDAR
VERSION:2.0
PRODID:-//visitlcf.org//NONSGML kigkonsult.se iCalcreator 2.30.10//
CALSCALE:GREGORIAN
METHOD:PUBLISH
UID:1976b003-fe3c-4597-b233-787674fe3c8d
X-WR-CALDESC:
X-WR-RELCALID:c3ce10298b5c888b0ad5b294aacd1cf9
X-WR-TIMEZONE:America/Chicago
BEGIN:VTIMEZONE
TZID:America/Chicago
BEGIN:STANDARD
TZNAME:CST
DTSTART:20251102T020000
TZOFFSETFROM:-0500
TZOFFSETTO:-0600
RDATE:20261101T020000
END:STANDARD
BEGIN:DAYLIGHT
TZNAME:CDT
DTSTART:20250309T020000
TZOFFSETFROM:-0600
TZOFFSETTO:-0500
RDATE:20260308T020000
RDATE:20270314T020000
END:DAYLIGHT
END:VTIMEZONE
BEGIN:VEVENT
UID:44cc8be3-ea1c-435d-bbfa-9f0a909219ae
DTSTAMP:20260422T081150Z
DESCRIPTION:
DTSTART;TZID=America/Chicago:20260204T170000
DTEND;TZID=America/Chicago:20260204T183000
LOCATION:
SUMMARY:Z-360 Student Council Dinner
END:VEVENT
END:VCALENDAR
