BEGIN:VCALENDAR
VERSION:2.0
PRODID:-//visitlcf.org//NONSGML kigkonsult.se iCalcreator 2.30.10//
CALSCALE:GREGORIAN
METHOD:PUBLISH
UID:ad742717-7da9-4924-aa7e-68294274112c
X-WR-CALDESC:
X-WR-RELCALID:c712bd2504d6f0f1aa5a4289eea0a0d0
X-WR-TIMEZONE:America/Chicago
BEGIN:VTIMEZONE
TZID:America/Chicago
BEGIN:STANDARD
TZNAME:CST
DTSTART:20251102T020000
TZOFFSETFROM:-0500
TZOFFSETTO:-0600
RDATE:20261101T020000
END:STANDARD
BEGIN:DAYLIGHT
TZNAME:CDT
DTSTART:20250309T020000
TZOFFSETFROM:-0600
TZOFFSETTO:-0500
RDATE:20260308T020000
RDATE:20270314T020000
END:DAYLIGHT
END:VTIMEZONE
BEGIN:VEVENT
UID:4d92b720-fb27-45b2-93bb-ab0005a043d6
DTSTAMP:20260422T075911Z
DESCRIPTION:
DTSTART;TZID=America/Chicago:20260201T124500
DTEND;TZID=America/Chicago:20260201T140000
LOCATION:
SUMMARY:Annual Business Mtg.
END:VEVENT
END:VCALENDAR
