BEGIN:VCALENDAR
VERSION:2.0
PRODID:-//visitlcf.org//NONSGML kigkonsult.se iCalcreator 2.30.10//
CALSCALE:GREGORIAN
METHOD:PUBLISH
UID:fdcc725d-6db9-4e53-972f-084ca1a8a6ec
X-WR-CALDESC:
X-WR-RELCALID:694d3b2f4244c614cd38ee6466d33f03
X-WR-TIMEZONE:America/Chicago
BEGIN:VTIMEZONE
TZID:America/Chicago
BEGIN:STANDARD
TZNAME:CST
DTSTART:20251102T020000
TZOFFSETFROM:-0500
TZOFFSETTO:-0600
RDATE:20261101T020000
END:STANDARD
BEGIN:DAYLIGHT
TZNAME:CDT
DTSTART:20250309T020000
TZOFFSETFROM:-0600
TZOFFSETTO:-0500
RDATE:20260308T020000
RDATE:20270314T020000
END:DAYLIGHT
END:VTIMEZONE
BEGIN:VEVENT
UID:60bcadfd-d476-4ecd-a3ad-a2f5cad73291
DTSTAMP:20260422T080012Z
DESCRIPTION:
DTSTART;TZID=America/Chicago:20260201T100000
DTEND;TZID=America/Chicago:20260201T104500
LOCATION:
SUMMARY:Coffee Fellowship
END:VEVENT
END:VCALENDAR
