BEGIN:VCALENDAR
VERSION:2.0
PRODID:-//visitlcf.org//NONSGML kigkonsult.se iCalcreator 2.30.10//
CALSCALE:GREGORIAN
METHOD:PUBLISH
UID:d3290079-eaa1-466f-8486-ed4871226ad4
X-WR-CALDESC:An opportunity for the men to get together and hang out while 
 enjoying a hot breakfast.
X-WR-RELCALID:b1aae8d6a85ea963dd8b14701953f8ed
X-WR-TIMEZONE:America/Chicago
BEGIN:VTIMEZONE
TZID:America/Chicago
BEGIN:STANDARD
TZNAME:CST
DTSTART:20241103T020000
TZOFFSETFROM:-0500
TZOFFSETTO:-0600
RDATE:20251102T020000
RDATE:20261101T020000
END:STANDARD
BEGIN:DAYLIGHT
TZNAME:CDT
DTSTART:20250309T020000
TZOFFSETFROM:-0600
TZOFFSETTO:-0500
RDATE:20260308T020000
END:DAYLIGHT
END:VTIMEZONE
BEGIN:VEVENT
UID:184b4335-9ef7-49e0-b0cc-385b507f7457
DTSTAMP:20260421T080617Z
DESCRIPTION:An opportunity for the men to get together and hang out while e
 njoying a hot breakfast.
DTSTART;TZID=America/Chicago:20250614T080000
DTEND;TZID=America/Chicago:20250614T093000
LOCATION:
SUMMARY:Valiant Men's Breakfast
END:VEVENT
END:VCALENDAR
